
BEGIN:VCALENDAR
VERSION:2.0
PRODID:-//Downtown Missoula Partnership - ECPv6.15.14//NONSGML v1.0//EN
CALSCALE:GREGORIAN
METHOD:PUBLISH
X-WR-CALNAME:Downtown Missoula Partnership
X-ORIGINAL-URL:https://www.missouladowntown.com
X-WR-CALDESC:Events for Downtown Missoula Partnership
REFRESH-INTERVAL;VALUE=DURATION:PT1H
X-Robots-Tag:noindex
X-PUBLISHED-TTL:PT1H
BEGIN:VTIMEZONE
TZID:America/Denver
BEGIN:DAYLIGHT
TZOFFSETFROM:-0700
TZOFFSETTO:-0600
TZNAME:MDT
DTSTART:20250309T090000
END:DAYLIGHT
BEGIN:STANDARD
TZOFFSETFROM:-0600
TZOFFSETTO:-0700
TZNAME:MST
DTSTART:20251102T080000
END:STANDARD
BEGIN:DAYLIGHT
TZOFFSETFROM:-0700
TZOFFSETTO:-0600
TZNAME:MDT
DTSTART:20260308T090000
END:DAYLIGHT
BEGIN:STANDARD
TZOFFSETFROM:-0600
TZOFFSETTO:-0700
TZNAME:MST
DTSTART:20261101T080000
END:STANDARD
BEGIN:DAYLIGHT
TZOFFSETFROM:-0700
TZOFFSETTO:-0600
TZNAME:MDT
DTSTART:20270314T090000
END:DAYLIGHT
BEGIN:STANDARD
TZOFFSETFROM:-0600
TZOFFSETTO:-0700
TZNAME:MST
DTSTART:20271107T080000
END:STANDARD
END:VTIMEZONE
BEGIN:VEVENT
DTSTART;TZID=America/Denver:20260430T083000
DTEND;TZID=America/Denver:20260430T100000
DTSTAMP:20260424T063508
CREATED:20260330T184448Z
LAST-MODIFIED:20260408T171541Z
UID:48950-1777537800-1777543200@www.missouladowntown.com
SUMMARY:Social Media Workshop: Lead With Your Values
DESCRIPTION:Social Media for Brick & Mortar Shops: Lead With Your Values\n The most successful brick-and-mortar businesses aren’t just selling products—they’re building connection\, trust\, and community. \nThis workshop is designed to help you rethink your approach to social media by leading with your values. Instead of only posting about sales\, events\, or new arrivals\, you’ll learn how to consistently show your audience why your business matters and why they should choose to shop with you. \nWhen you “rain” your customers with meaningful content; stories\, values\, behind-the-scenes moments\, and purpose\, you build a foundation of loyalty. So when you do post about a sale or event\, it’s no longer about convincing them to come\, it’s simply about whether it fits into their schedule. \nThis session will help you move from transactional posting to intentional storytelling that drives real connection (and real foot traffic). \nLead by Bailey Durnell\, Co-owner of Missoula Makers Collective.  \nBailey has run the Missoula Makers social media account from the beginning\, and has also managed a 45k+ instagram follower e-commerce business since 2019. \nWhere: Confluence Center (119 W. Main) \nWhen: 8:30-10 am
URL:https://www.missouladowntown.com/event/social-media-workshop/
LOCATION:Headwaters Foundation\, 119 W. Main Street\, Missoula\, MT\, 59801\, United States
CATEGORIES:Members
GEO:46.8711011;-113.9954881
X-APPLE-STRUCTURED-LOCATION;VALUE=URI;X-ADDRESS=Headwaters Foundation 119 W. Main Street Missoula MT 59801 United States;X-APPLE-RADIUS=500;X-TITLE=119 W. Main Street:geo:-113.9954881,46.8711011
END:VEVENT
END:VCALENDAR