
BEGIN:VCALENDAR
VERSION:2.0
PRODID:-//Downtown Missoula Partnership - ECPv6.15.14//NONSGML v1.0//EN
CALSCALE:GREGORIAN
METHOD:PUBLISH
X-ORIGINAL-URL:https://www.missouladowntown.com
X-WR-CALDESC:Events for Downtown Missoula Partnership
REFRESH-INTERVAL;VALUE=DURATION:PT1H
X-Robots-Tag:noindex
X-PUBLISHED-TTL:PT1H
BEGIN:VTIMEZONE
TZID:America/Denver
BEGIN:DAYLIGHT
TZOFFSETFROM:-0700
TZOFFSETTO:-0600
TZNAME:MDT
DTSTART:20230312T090000
END:DAYLIGHT
BEGIN:STANDARD
TZOFFSETFROM:-0600
TZOFFSETTO:-0700
TZNAME:MST
DTSTART:20231105T080000
END:STANDARD
BEGIN:DAYLIGHT
TZOFFSETFROM:-0700
TZOFFSETTO:-0600
TZNAME:MDT
DTSTART:20240310T090000
END:DAYLIGHT
BEGIN:STANDARD
TZOFFSETFROM:-0600
TZOFFSETTO:-0700
TZNAME:MST
DTSTART:20241103T080000
END:STANDARD
BEGIN:DAYLIGHT
TZOFFSETFROM:-0700
TZOFFSETTO:-0600
TZNAME:MDT
DTSTART:20250309T090000
END:DAYLIGHT
BEGIN:STANDARD
TZOFFSETFROM:-0600
TZOFFSETTO:-0700
TZNAME:MST
DTSTART:20251102T080000
END:STANDARD
END:VTIMEZONE
BEGIN:VEVENT
DTSTART;TZID=America/Denver:20240730T173000
DTEND;TZID=America/Denver:20240730T203000
DTSTAMP:20260419T055113
CREATED:20230615T163457Z
LAST-MODIFIED:20240723T202340Z
UID:34318-1722360600-1722371400@www.missouladowntown.com
SUMMARY:MDA Membership BBQ
DESCRIPTION:38th Annual MDA Membership BBQ\nStep right up\, folks\, and welcome to the greatest BBQ on earth at Caras Park!\nIt’s time for the ultimate summer-time BBQ! Held right in the heart of our community in Caras Park\, the MDA will be celebrating our members and all of the ways they enhance our Downtown through food and fun and connection. Dozens of Downtown businesses have graciously donated items for our raffle that you all know and love! Enjoy hot dogs\, walking tacos and more from Meal Thyme & Servin’ Thyme Food Truck. \nPlease feel free to invite a guest and introduce them to the Missoula Downtown Association! \nGet your taste buds and your game faces on – it’s BBQ time at the Caras Park carnival!\n  \n**Sponsor table (Table of 8)  includes two bottles of wine and an arm’s length of raffle tickets. \nTo purchase tickets: \nClick on appropriate number of tickets needed\, then click GET TICKETS. \nInterested in volunteering? Sign up HERE!
URL:https://www.missouladowntown.com/event/mda-membership-bbq/
LOCATION:Caras Park\, 123 Carousel Drive\, Missoula\, MT\, 59802\, United States
CATEGORIES:Members
ATTACH;FMTTYPE=image/jpeg:https://www.missouladowntown.com/wp-content/uploads/2024/06/DSC5772-Enhanced-SR.jpg
GEO:46.8695552;-113.9963354
X-APPLE-STRUCTURED-LOCATION;VALUE=URI;X-ADDRESS=Caras Park 123 Carousel Drive Missoula MT 59802 United States;X-APPLE-RADIUS=500;X-TITLE=123 Carousel Drive:geo:-113.9963354,46.8695552
END:VEVENT
END:VCALENDAR