
BEGIN:VCALENDAR
VERSION:2.0
PRODID:-//Downtown Missoula Partnership - ECPv6.15.14//NONSGML v1.0//EN
CALSCALE:GREGORIAN
METHOD:PUBLISH
X-ORIGINAL-URL:https://www.missouladowntown.com
X-WR-CALDESC:Events for Downtown Missoula Partnership
REFRESH-INTERVAL;VALUE=DURATION:PT1H
X-Robots-Tag:noindex
X-PUBLISHED-TTL:PT1H
BEGIN:VTIMEZONE
TZID:America/Denver
BEGIN:DAYLIGHT
TZOFFSETFROM:-0700
TZOFFSETTO:-0600
TZNAME:MDT
DTSTART:20230312T090000
END:DAYLIGHT
BEGIN:STANDARD
TZOFFSETFROM:-0600
TZOFFSETTO:-0700
TZNAME:MST
DTSTART:20231105T080000
END:STANDARD
BEGIN:DAYLIGHT
TZOFFSETFROM:-0700
TZOFFSETTO:-0600
TZNAME:MDT
DTSTART:20240310T090000
END:DAYLIGHT
BEGIN:STANDARD
TZOFFSETFROM:-0600
TZOFFSETTO:-0700
TZNAME:MST
DTSTART:20241103T080000
END:STANDARD
BEGIN:DAYLIGHT
TZOFFSETFROM:-0700
TZOFFSETTO:-0600
TZNAME:MDT
DTSTART:20250309T090000
END:DAYLIGHT
BEGIN:STANDARD
TZOFFSETFROM:-0600
TZOFFSETTO:-0700
TZNAME:MST
DTSTART:20251102T080000
END:STANDARD
END:VTIMEZONE
BEGIN:VEVENT
DTSTART;TZID=America/Denver:20241026T183000
DTEND;TZID=America/Denver:20241026T203000
DTSTAMP:20260421T071018
CREATED:20240910T235647Z
LAST-MODIFIED:20241016T225143Z
UID:40153-1729967400-1729974600@www.missouladowntown.com
SUMMARY:Unseen Missoula: Screams & Spirits
DESCRIPTION:As the leaves begin to fall and the seasons begin to change\, Missoula’s most spine-chilling history starts to emerge. History defined by forgotten cemeteries\, abandoned buildings\, and even murder. Join Unseen Missoula for an exploration into the city’s most haunting past and come face to face with the stories of Missoula’s most thrilling residents including convicted murderer John Burns\, crooked sheriff William Houston\, as well as two of Montana’s first state female convicts\, Felicita Sanchez and Mary Drouillard. Winding through Missoula’s historic downtown\, eventually concluding at the Cranky Sam Public House located in the heart of Missoula’s famed red light district\, guests will rendezvous with the screams…and possibly even the spirits…of the 19th and 20th centuries. \nThis ADA Accessible tour will run roughly 90 minutes and will start in front of the First Interstate Bank\, across from the Wilma. \nIn partnership with Cranky Sam each ticket will come with a $2 off coupon to Cranky Sam and a limited edition Screams & Spirits can koozie.
URL:https://www.missouladowntown.com/event/unseen-missoula-screams-spirits-24/
LOCATION:First Interstate Bank\, 101 E Front St\, Missoula\, 59802\, United States
CATEGORIES:Spirit of Place,Tours
ATTACH;FMTTYPE=image/png:https://www.missouladowntown.com/wp-content/uploads/2024/09/Screams-Spirits-1.png
GEO:46.869909;-113.9951389
X-APPLE-STRUCTURED-LOCATION;VALUE=URI;X-ADDRESS=First Interstate Bank 101 E Front St Missoula 59802 United States;X-APPLE-RADIUS=500;X-TITLE=101 E Front St:geo:-113.9951389,46.869909
END:VEVENT
END:VCALENDAR