
BEGIN:VCALENDAR
VERSION:2.0
PRODID:-//Downtown Missoula Partnership - ECPv6.15.14//NONSGML v1.0//EN
CALSCALE:GREGORIAN
METHOD:PUBLISH
X-ORIGINAL-URL:https://www.missouladowntown.com
X-WR-CALDESC:Events for Downtown Missoula Partnership
REFRESH-INTERVAL;VALUE=DURATION:PT1H
X-Robots-Tag:noindex
X-PUBLISHED-TTL:PT1H
BEGIN:VTIMEZONE
TZID:America/Denver
BEGIN:DAYLIGHT
TZOFFSETFROM:-0700
TZOFFSETTO:-0600
TZNAME:MDT
DTSTART:20240310T090000
END:DAYLIGHT
BEGIN:STANDARD
TZOFFSETFROM:-0600
TZOFFSETTO:-0700
TZNAME:MST
DTSTART:20241103T080000
END:STANDARD
BEGIN:DAYLIGHT
TZOFFSETFROM:-0700
TZOFFSETTO:-0600
TZNAME:MDT
DTSTART:20250309T090000
END:DAYLIGHT
BEGIN:STANDARD
TZOFFSETFROM:-0600
TZOFFSETTO:-0700
TZNAME:MST
DTSTART:20251102T080000
END:STANDARD
BEGIN:DAYLIGHT
TZOFFSETFROM:-0700
TZOFFSETTO:-0600
TZNAME:MDT
DTSTART:20260308T090000
END:DAYLIGHT
BEGIN:STANDARD
TZOFFSETFROM:-0600
TZOFFSETTO:-0700
TZNAME:MST
DTSTART:20261101T080000
END:STANDARD
END:VTIMEZONE
BEGIN:VEVENT
DTSTART;TZID=America/Denver:20250608T100000
DTEND;TZID=America/Denver:20250608T120000
DTSTAMP:20260422T105755
CREATED:20250519T175555Z
LAST-MODIFIED:20250607T234231Z
UID:44212-1749376800-1749384000@www.missouladowntown.com
SUMMARY:Unseen Missoula: Lower Rattlesnake & Greenough Park
DESCRIPTION:From the grand mansion of the Greenough family to bear cages\, streetcars\, Native encampments\, and the old Missoula cemetery\, this 2-hour walking tour uncovers a deep and layered history of Missoula’s north side. Stroll through Greenough Park and the historic Lower Rattlesnake neighborhood while exploring the stories that shaped this corner of town. \nWe’ll begin at the lower Greenough Park parking lot at 1011 Monroe St. and end at the Mount Jumbo trailhead at the end of Cherry St. The route is about 1.2 miles and entirely outdoors. \nDon’t forget your walking shoes\, water bottle\, and appropriate outdoor gear! \nCash tips are always appreciated by our guides\, but never expected.
URL:https://www.missouladowntown.com/event/unseen-missoula-lower-rattlesnake-greenough-park-33/
LOCATION:Greenough Park\, 1011 Monroe Street\, Missoula\, MT\, 59802\, United States
CATEGORIES:Lower Rattlesnake & Greenough Park,Tours
ATTACH;FMTTYPE=image/jpeg:https://www.missouladowntown.com/wp-content/uploads/2024/04/image_50455809-scaled.jpg
GEO:46.8742956;-113.9799162
X-APPLE-STRUCTURED-LOCATION;VALUE=URI;X-ADDRESS=Greenough Park 1011 Monroe Street Missoula MT 59802 United States;X-APPLE-RADIUS=500;X-TITLE=1011 Monroe Street:geo:-113.9799162,46.8742956
END:VEVENT
BEGIN:VEVENT
DTSTART;TZID=America/Denver:20250615T100000
DTEND;TZID=America/Denver:20250615T120000
DTSTAMP:20260422T105755
CREATED:20250502T213713Z
LAST-MODIFIED:20250502T213713Z
UID:43961-1749981600-1749988800@www.missouladowntown.com
SUMMARY:Unseen Missoula: Lower Rattlesnake & Greenough Park
DESCRIPTION:Come along on this tour to explore the story of Greenough Park\, from the Greenough family (and their massive mansion) who donated the land\, to the controversies over park management\, including the park’s infamous “bear cage.” From Greenough\, we’ll travel to the sites of Native American encampments\, and old streetcar crossings\, then explore the historic Lower Rattlesnake neighborhood before ending at the old Missoula cemetery and Chinese burial grounds. \nThis walking tour takes about two hours and is entirely outdoors. Bring appropriate clothing and water. The tour route is about 1.2 miles long. \nMeet at the Greenough Park LOWER PARKING LOT  at 1011 Monroe St. The tour ends at the Mount Jumbo trailhead at the end of Cherry St. \nCash tips are always appreciated by our guides- but never expected.
URL:https://www.missouladowntown.com/event/unseen-missoula-lower-rattlesnake-greenough-park-32/
LOCATION:Greenough Park\, 1011 Monroe Street\, Missoula\, MT\, 59802\, United States
CATEGORIES:Lower Rattlesnake & Greenough Park,Tours
ATTACH;FMTTYPE=image/jpeg:https://www.missouladowntown.com/wp-content/uploads/2024/04/image_50455809-scaled.jpg
GEO:46.8742956;-113.9799162
X-APPLE-STRUCTURED-LOCATION;VALUE=URI;X-ADDRESS=Greenough Park 1011 Monroe Street Missoula MT 59802 United States;X-APPLE-RADIUS=500;X-TITLE=1011 Monroe Street:geo:-113.9799162,46.8742956
END:VEVENT
BEGIN:VEVENT
DTSTART;TZID=America/Denver:20250622T100000
DTEND;TZID=America/Denver:20250622T120000
DTSTAMP:20260422T105755
CREATED:20250619T175225Z
LAST-MODIFIED:20250619T175225Z
UID:44664-1750586400-1750593600@www.missouladowntown.com
SUMMARY:Unseen Missoula: Lower Rattlesnake & Greenough Park
DESCRIPTION:From the grand mansion of the Greenough family to bear cages\, streetcars\, Native encampments\, and the old Missoula cemetery\, this 2-hour walking tour uncovers a deep and layered history of Missoula’s north side. Stroll through Greenough Park and the historic Lower Rattlesnake neighborhood while exploring the stories that shaped this corner of town. \nWe’ll begin at the lower Greenough Park parking lot at 1011 Monroe St. and end at the Mount Jumbo trailhead at the end of Cherry St. The route is about 1.2 miles and entirely outdoors. \nDon’t forget your walking shoes\, water bottle\, and appropriate outdoor gear! \nCash tips are always appreciated by our guides\, but never expected.
URL:https://www.missouladowntown.com/event/unseen-missoula-lower-rattlesnake-greenough-park-36/
LOCATION:Greenough Park\, 1011 Monroe Street\, Missoula\, MT\, 59802\, United States
CATEGORIES:Lower Rattlesnake & Greenough Park,Tours
ATTACH;FMTTYPE=image/jpeg:https://www.missouladowntown.com/wp-content/uploads/2024/04/image_50455809-scaled.jpg
GEO:46.8742956;-113.9799162
X-APPLE-STRUCTURED-LOCATION;VALUE=URI;X-ADDRESS=Greenough Park 1011 Monroe Street Missoula MT 59802 United States;X-APPLE-RADIUS=500;X-TITLE=1011 Monroe Street:geo:-113.9799162,46.8742956
END:VEVENT
END:VCALENDAR